BEGIN:VCALENDAR
VERSION:2.0
PRODID:-//South Shuswap Chamber of Commerce - ECPv6.15.20//NONSGML v1.0//EN
CALSCALE:GREGORIAN
METHOD:PUBLISH
X-ORIGINAL-URL:https://www.southshuswapchamber.com
X-WR-CALDESC:Events for South Shuswap Chamber of Commerce
REFRESH-INTERVAL;VALUE=DURATION:PT1H
X-Robots-Tag:noindex
X-PUBLISHED-TTL:PT1H
BEGIN:VTIMEZONE
TZID:America/Vancouver
BEGIN:DAYLIGHT
TZOFFSETFROM:-0800
TZOFFSETTO:-0700
TZNAME:PDT
DTSTART:20240310T100000
END:DAYLIGHT
BEGIN:STANDARD
TZOFFSETFROM:-0700
TZOFFSETTO:-0800
TZNAME:PST
DTSTART:20241103T090000
END:STANDARD
BEGIN:DAYLIGHT
TZOFFSETFROM:-0800
TZOFFSETTO:-0700
TZNAME:PDT
DTSTART:20250309T100000
END:DAYLIGHT
BEGIN:STANDARD
TZOFFSETFROM:-0700
TZOFFSETTO:-0800
TZNAME:PST
DTSTART:20251102T090000
END:STANDARD
BEGIN:DAYLIGHT
TZOFFSETFROM:-0800
TZOFFSETTO:-0700
TZNAME:PDT
DTSTART:20260308T100000
END:DAYLIGHT
BEGIN:STANDARD
TZOFFSETFROM:-0700
TZOFFSETTO:-0800
TZNAME:PST
DTSTART:20261101T090000
END:STANDARD
END:VTIMEZONE
BEGIN:VEVENT
DTSTART;TZID=America/Vancouver:20251122T090000
DTEND;TZID=America/Vancouver:20251122T140000
DTSTAMP:20260421T033749
CREATED:20251118T000301Z
LAST-MODIFIED:20251118T000301Z
UID:82000-1763802000-1763820000@www.southshuswapchamber.com
SUMMARY:Sorrento Community Hall Christmas Market
DESCRIPTION:Come out for a fun day of shopping by supporting your local Shuswap artisans and small businesses while crossing off your Christmas lists. \n\nThere will be over 60 vendors with a variety of artisanal creations\, both upstairs at Sorrento Community Hall and downstairs at the SDIS (Sorrento Drop-In Society)!\n\nWe will have a lunch concession available as well as 50/50 tickets and the Piecemakers Quilters will be doing a raffle for a homemade quilt.\n\nCan’t wait to see you there!
URL:https://www.southshuswapchamber.com/event/sorrento-community-hall-christmas-market/
LOCATION:Sorrento Community Hall\, 1150 passchaendaele road\, Sorrento\, British Columbia\, Canada
CATEGORIES:Art event,Community Event,Festival,Market
END:VEVENT
END:VCALENDAR