BEGIN:VCALENDAR
VERSION:2.0
PRODID:-//South Shuswap Chamber of Commerce - ECPv6.15.20//NONSGML v1.0//EN
CALSCALE:GREGORIAN
METHOD:PUBLISH
X-WR-CALNAME:South Shuswap Chamber of Commerce
X-ORIGINAL-URL:https://www.southshuswapchamber.com
X-WR-CALDESC:Events for South Shuswap Chamber of Commerce
REFRESH-INTERVAL;VALUE=DURATION:PT1H
X-Robots-Tag:noindex
X-PUBLISHED-TTL:PT1H
BEGIN:VTIMEZONE
TZID:America/Vancouver
BEGIN:DAYLIGHT
TZOFFSETFROM:-0800
TZOFFSETTO:-0700
TZNAME:PDT
DTSTART:20240310T100000
END:DAYLIGHT
BEGIN:STANDARD
TZOFFSETFROM:-0700
TZOFFSETTO:-0800
TZNAME:PST
DTSTART:20241103T090000
END:STANDARD
BEGIN:DAYLIGHT
TZOFFSETFROM:-0800
TZOFFSETTO:-0700
TZNAME:PDT
DTSTART:20250309T100000
END:DAYLIGHT
BEGIN:STANDARD
TZOFFSETFROM:-0700
TZOFFSETTO:-0800
TZNAME:PST
DTSTART:20251102T090000
END:STANDARD
BEGIN:DAYLIGHT
TZOFFSETFROM:-0800
TZOFFSETTO:-0700
TZNAME:PDT
DTSTART:20260308T100000
END:DAYLIGHT
BEGIN:STANDARD
TZOFFSETFROM:-0700
TZOFFSETTO:-0800
TZNAME:PST
DTSTART:20261101T090000
END:STANDARD
END:VTIMEZONE
BEGIN:VEVENT
DTSTART;VALUE=DATE:20251201
DTEND;VALUE=DATE:20260101
DTSTAMP:20260421T020707
CREATED:20251207T214741Z
LAST-MODIFIED:20251214T013539Z
UID:82059-1764547200-1767225599@www.southshuswapchamber.com
SUMMARY:The Shuswap Twinkle Trail • December 1-31
DESCRIPTION:The Shuswap Twinkle Trail is back & better than ever!\n\n\n\n\n\nHere are the updates for a complete view of festivities in the Shu!\n\n\n\n Add your house or business directly to the map at tinyurl.com/ShuswapTwinkleTrail\n\n\n Choose between “Light Display” if you’ve put up lights and “Full Griswold” if you’ve gone all out.\n\n\n Add and view holiday events and activities with special icons for people to discover.\n\n\n Upload photos or profile deals you’re offering to help drive traffic to your event.\n\n\nLOCATE THE HOTSPOTS!!\n\n\n\n\nAs always\, the map is totally free. Our family loves the holiday season and we want to spread cheer far and wide.\n\n\n\nIf you have questions or need some help drop a comment below or send me a message.\n\n\n\nHappy holidays everyone!
URL:https://www.southshuswapchamber.com/event/the-shuswap-twinkle-trail-december-1-31/
CATEGORIES:Community Event,Festival,for kids,Special Event
ATTACH;FMTTYPE=image/png:https://www.southshuswapchamber.com/wp-content/uploads/2025/12/Screen-Shot-2025-12-07-at-1.44.28-PM.png
ORGANIZER;CN="Eagle Bay Community Association":MAILTO:eaglebaybc@gmail.com
END:VEVENT
BEGIN:VEVENT
DTSTART;TZID=America/Vancouver:20251206T120000
DTEND;TZID=America/Vancouver:20251206T170000
DTSTAMP:20260421T020707
CREATED:20251117T234138Z
LAST-MODIFIED:20251117T235425Z
UID:81993-1765022400-1765040400@www.southshuswapchamber.com
SUMMARY:Sunnybrae Winery’s Annual Market & Open House
DESCRIPTION:Sunnybrae Winery’s Annual Market & Open House is Back\n\nJoin us at the winery on December 6 & 7 from NOON to 5:00 for a cozy winter weekend in classic Sunnybrae style.\n\nLOCATION: Sunnybrae Winery\n3849 Sunnybrae Canoe Point Road\n\n\nStay toasty warm as you gather around the bonfire with friends.\nSip on mulled wine featuring everyone’s favourite Redneck Red and enjoy complimentary light snacks.\n️Check items off your holiday shopping list with unique creations from local artisans and vendors at our holiday market.\nWin great prizes from chocolate to discounts on your favourite sips.\n\nAnd don’t forget to stock up on our award-winning wines for the holidays.\n\nIt’s the perfect way to spend a magical December day.\n\nFollow our Facebook and Instagram pages for details\, vendor profiles and more as we count down to the most wonderful time of the year.
URL:https://www.southshuswapchamber.com/event/sunnybrae-winerys-annual-market-open-house/
LOCATION:Sunnybrae Winnery\, 3849 Sunnybrae-Canoe Point Road Tappen\, BC\, Tappen\, British Columbia\, V0E 2X1\, Canada
CATEGORIES:Art event,Business,Community Event,Festival,Market,Open House
END:VEVENT
BEGIN:VEVENT
DTSTART;TZID=America/Vancouver:20251207T120000
DTEND;TZID=America/Vancouver:20251207T170000
DTSTAMP:20260421T020707
CREATED:20251117T234258Z
LAST-MODIFIED:20251117T235322Z
UID:81996-1765108800-1765126800@www.southshuswapchamber.com
SUMMARY:Sunnybrae Winery’s Annual Market & Open House
DESCRIPTION:Sunnybrae Winery’s Annual Market & Open House is Back\n\nJoin us at the winery on December 6 & 7 from NOON to 5:00 for a cozy winter weekend in classic Sunnybrae style.\n\nLOCATION: Sunnybrae Winery\n3849 Sunnybrae Canoe Point Road\n\n\nStay toasty warm as you gather around the bonfire with friends.\nSip on mulled wine featuring everyone’s favourite Redneck Red and enjoy complimentary light snacks.\n️Check items off your holiday shopping list with unique creations from local artisans and vendors at our holiday market.\nWin great prizes from chocolate to discounts on your favourite sips.\n\nAnd don’t forget to stock up on our award-winning wines for the holidays.\n\nIt’s the perfect way to spend a magical December day.\n\nFollow our Facebook and Instagram pages for details\, vendor profiles and more as we count down to the most wonderful time of the year.
URL:https://www.southshuswapchamber.com/event/sunnybrae-winerys-annual-market-open-house-2/
LOCATION:Sunnybrae Winnery\, 3849 Sunnybrae-Canoe Point Road Tappen\, BC\, Tappen\, British Columbia\, V0E 2X1\, Canada
CATEGORIES:Art event,Business,Community Event,Festival,Market,Open House
END:VEVENT
BEGIN:VEVENT
DTSTART;TZID=America/Vancouver:20251217T180000
DTEND;TZID=America/Vancouver:20251217T220000
DTSTAMP:20260421T020707
CREATED:20251118T011607Z
LAST-MODIFIED:20251118T011607Z
UID:82006-1765994400-1766008800@www.southshuswapchamber.com
SUMMARY:Notch Hill CPKC Holiday Train
DESCRIPTION:Come out and enjoy the holiday festivities at the Notch Hill Town Hall Community Park!\nThe Notch Hill School House Artisans Store will be open for shopping\, were you will find your one of a kind unique Christmas gifts all before the CPKC Holiday Train arrives. \nFire barrels will be lit to keep you warm\, hot chocolate & cookies offered by donation. \nThe Sorrento Food Bank will be on hand accepting non perishables & cash. \nCPKC Holiday Train to arrive around 9:30pm. \nPerforming live will be Canada’s very own\, the Bare Naked Ladies!
URL:https://www.southshuswapchamber.com/event/notch-hill-cpkc-holiday-train/
LOCATION:Notch Hill Community Hall\, 1639 Notch Hill Rd\, Sorrento\, British Columbia
CATEGORIES:Community Event,Festival,for kids,Market,Music event,Special Event
END:VEVENT
END:VCALENDAR