BEGIN:VCALENDAR
VERSION:2.0
PRODID:-//South Shuswap Chamber of Commerce - ECPv6.15.20//NONSGML v1.0//EN
CALSCALE:GREGORIAN
METHOD:PUBLISH
X-ORIGINAL-URL:https://www.southshuswapchamber.com
X-WR-CALDESC:Events for South Shuswap Chamber of Commerce
REFRESH-INTERVAL;VALUE=DURATION:PT1H
X-Robots-Tag:noindex
X-PUBLISHED-TTL:PT1H
BEGIN:VTIMEZONE
TZID:America/Vancouver
BEGIN:DAYLIGHT
TZOFFSETFROM:-0800
TZOFFSETTO:-0700
TZNAME:PDT
DTSTART:20250309T100000
END:DAYLIGHT
BEGIN:STANDARD
TZOFFSETFROM:-0700
TZOFFSETTO:-0800
TZNAME:PST
DTSTART:20251102T090000
END:STANDARD
BEGIN:DAYLIGHT
TZOFFSETFROM:-0800
TZOFFSETTO:-0700
TZNAME:PDT
DTSTART:20260308T100000
END:DAYLIGHT
BEGIN:STANDARD
TZOFFSETFROM:-0700
TZOFFSETTO:-0800
TZNAME:PST
DTSTART:20261101T090000
END:STANDARD
BEGIN:DAYLIGHT
TZOFFSETFROM:-0800
TZOFFSETTO:-0700
TZNAME:PDT
DTSTART:20270314T100000
END:DAYLIGHT
BEGIN:STANDARD
TZOFFSETFROM:-0700
TZOFFSETTO:-0800
TZNAME:PST
DTSTART:20271107T090000
END:STANDARD
END:VTIMEZONE
BEGIN:VEVENT
DTSTART;VALUE=DATE:20260313
DTEND;VALUE=DATE:20260315
DTSTAMP:20260422T053251
CREATED:20251219T234718Z
LAST-MODIFIED:20251219T234718Z
UID:82085-1773360000-1773532799@www.southshuswapchamber.com
SUMMARY:Friends of the Library Book Sale
DESCRIPTION:Friends of the Library Book Sale.  \nSupport your local libraries and discover great books for all ages! \nPurchase great books at affordable prices while supporting your Salmon Arm and South Shuswap library branches. \nSalmon Arm sale is March 13 and 14 \nSouth Shuswap sale is April 17 and 18 \n  \nMORE EVENTS @ SOUTH SHUSWAP LIBRARY
URL:https://www.southshuswapchamber.com/event/friends-of-the-library-book-sale/
LOCATION:South Shuswap Library\, #1 - 2425 Golf Course Drive\, Blind Bay\, British Columbia\, Canada
CATEGORIES:Community Event,Creativity,Customer appreciation event,Fundraising event,Health & Wellbeing,Learning,Meet,Networking,Open House,Reading / Writing
ATTACH;FMTTYPE=image/png:https://www.southshuswapchamber.com/wp-content/uploads/2025/12/SouthShuswapLibrary_SimpleImage.png
END:VEVENT
END:VCALENDAR