BEGIN:VCALENDAR
VERSION:2.0
PRODID:-//South Shuswap Chamber of Commerce - ECPv6.15.20//NONSGML v1.0//EN
CALSCALE:GREGORIAN
METHOD:PUBLISH
X-ORIGINAL-URL:https://www.southshuswapchamber.com
X-WR-CALDESC:Events for South Shuswap Chamber of Commerce
REFRESH-INTERVAL;VALUE=DURATION:PT1H
X-Robots-Tag:noindex
X-PUBLISHED-TTL:PT1H
BEGIN:VTIMEZONE
TZID:America/Vancouver
BEGIN:DAYLIGHT
TZOFFSETFROM:-0800
TZOFFSETTO:-0700
TZNAME:PDT
DTSTART:20250309T100000
END:DAYLIGHT
BEGIN:STANDARD
TZOFFSETFROM:-0700
TZOFFSETTO:-0800
TZNAME:PST
DTSTART:20251102T090000
END:STANDARD
BEGIN:DAYLIGHT
TZOFFSETFROM:-0800
TZOFFSETTO:-0700
TZNAME:PDT
DTSTART:20260308T100000
END:DAYLIGHT
BEGIN:STANDARD
TZOFFSETFROM:-0700
TZOFFSETTO:-0800
TZNAME:PST
DTSTART:20261101T090000
END:STANDARD
BEGIN:DAYLIGHT
TZOFFSETFROM:-0800
TZOFFSETTO:-0700
TZNAME:PDT
DTSTART:20270314T100000
END:DAYLIGHT
BEGIN:STANDARD
TZOFFSETFROM:-0700
TZOFFSETTO:-0800
TZNAME:PST
DTSTART:20271107T090000
END:STANDARD
END:VTIMEZONE
BEGIN:VEVENT
DTSTART;TZID=America/Vancouver:20260205T130000
DTEND;TZID=America/Vancouver:20260205T143000
DTSTAMP:20260420T012201
CREATED:20251219T233733Z
LAST-MODIFIED:20251219T233733Z
UID:82081-1770296400-1770301800@www.southshuswapchamber.com
SUMMARY:Page Turners Book Club — South Shuswap Library
DESCRIPTION:Page Turners Book Club. \nThe first Thursday of the month at 1pm. \nNext meeting is February 5th. \nMORE EVENTS
URL:https://www.southshuswapchamber.com/event/page-turners-book-club-south-shuswap-library/
LOCATION:South Shuswap Library\, #1 - 2425 Golf Course Drive\, Blind Bay\, British Columbia\, Canada
CATEGORIES:Community Event,Creativity,Learning,Meet,Networking,Reading / Writing
ATTACH;FMTTYPE=image/png:https://www.southshuswapchamber.com/wp-content/uploads/2025/12/SouthShuswapLibrary_SimpleImage.png
END:VEVENT
END:VCALENDAR